BEGIN:VCALENDAR
VERSION:2.0
PRODID:-//Mindful Education - ECPv6.15.18//NONSGML v1.0//EN
CALSCALE:GREGORIAN
METHOD:PUBLISH
X-ORIGINAL-URL:https://www.mindful-education.fr
X-WR-CALDESC:Évènements pour Mindful Education
REFRESH-INTERVAL;VALUE=DURATION:PT1H
X-Robots-Tag:noindex
X-PUBLISHED-TTL:PT1H
BEGIN:VTIMEZONE
TZID:Europe/Paris
BEGIN:DAYLIGHT
TZOFFSETFROM:+0100
TZOFFSETTO:+0200
TZNAME:CEST
DTSTART:20190331T010000
END:DAYLIGHT
BEGIN:STANDARD
TZOFFSETFROM:+0200
TZOFFSETTO:+0100
TZNAME:CET
DTSTART:20191027T010000
END:STANDARD
BEGIN:DAYLIGHT
TZOFFSETFROM:+0100
TZOFFSETTO:+0200
TZNAME:CEST
DTSTART:20200329T010000
END:DAYLIGHT
BEGIN:STANDARD
TZOFFSETFROM:+0200
TZOFFSETTO:+0100
TZNAME:CET
DTSTART:20201025T010000
END:STANDARD
BEGIN:DAYLIGHT
TZOFFSETFROM:+0100
TZOFFSETTO:+0200
TZNAME:CEST
DTSTART:20210328T010000
END:DAYLIGHT
BEGIN:STANDARD
TZOFFSETFROM:+0200
TZOFFSETTO:+0100
TZNAME:CET
DTSTART:20211031T010000
END:STANDARD
END:VTIMEZONE
BEGIN:VEVENT
DTSTART;TZID=Europe/Paris:20200926T093000
DTEND;TZID=Europe/Paris:20200927T170000
DTSTAMP:20260422T192554
CREATED:20200608T104907Z
LAST-MODIFIED:20200615T073351Z
UID:4921-1601112600-1601226000@www.mindful-education.fr
SUMMARY:Paris sept/oct 20 - Formation P.E.A.C.E® en milieu scolaire et éducatif
DESCRIPTION:[vc_row][vc_column][vc_custom_heading text= »26-27 septembre et 10-11 octobre 2020  » use_theme_fonts= »yes »][vc_separator color= »custom » accent_color= »#595959″ css= ».vc_custom_1561470155574{margin-top: 25px !important;} »][/vc_column][/vc_row][vc_row][vc_column][vc_custom_heading text= »DESCRIPTION » use_theme_fonts= »yes »][vc_column_text]Cette formation donne les bases pour faire pratiquer la méditation de pleine conscience et de pleine présence aux enfants et adolescents\, pendant le temps scolaire\, ou extra-scolaire\, selon les modalités du programme P.E.A.C.E. \n\nModules 1 à 4\nIncluant\nCertificat de fin de formation\nAccréditation avec supervision + € 100 : obligatoire pour les intervenants extérieurs qui souhaitent intervenir en milieu scolaire ou extra-scolaire. (à régler directement à son superviseur après confirmation du stage).\nRecommandée mais non obligatoire pour les enseignants qui ne pratiquent qu’avec leurs classes.\n\n\nNote: l’adhésion à l’association partenaire A.M.E. est à régler pour faire votre stage d’accréditation et faire partie de la communauté d’instructeurs référencés dans les établissements scolaires. VOIR ET ADHÉRER[/vc_column_text][/vc_column][/vc_row]
URL:https://www.mindful-education.fr/formation/paris-formation-p-e-a-c-e-2-2-3/
LOCATION:Les dénicheurs de possibles\, 72 rue Brillat Savarin\, Paris\, 75013\, France
CATEGORIES:Paris,Toulouse
ORGANIZER;CN="MINDFUL EDUCATION":MAILTO:formationpeace@gmail.com
END:VEVENT
END:VCALENDAR