BEGIN:VCALENDAR
VERSION:2.0
PRODID:-//Mindful Education - ECPv6.15.18//NONSGML v1.0//EN
CALSCALE:GREGORIAN
METHOD:PUBLISH
X-ORIGINAL-URL:https://www.mindful-education.fr
X-WR-CALDESC:Évènements pour Mindful Education
REFRESH-INTERVAL;VALUE=DURATION:PT1H
X-Robots-Tag:noindex
X-PUBLISHED-TTL:PT1H
BEGIN:VTIMEZONE
TZID:Europe/Paris
BEGIN:DAYLIGHT
TZOFFSETFROM:+0100
TZOFFSETTO:+0200
TZNAME:CEST
DTSTART:20190331T010000
END:DAYLIGHT
BEGIN:STANDARD
TZOFFSETFROM:+0200
TZOFFSETTO:+0100
TZNAME:CET
DTSTART:20191027T010000
END:STANDARD
BEGIN:DAYLIGHT
TZOFFSETFROM:+0100
TZOFFSETTO:+0200
TZNAME:CEST
DTSTART:20200329T010000
END:DAYLIGHT
BEGIN:STANDARD
TZOFFSETFROM:+0200
TZOFFSETTO:+0100
TZNAME:CET
DTSTART:20201025T010000
END:STANDARD
BEGIN:DAYLIGHT
TZOFFSETFROM:+0100
TZOFFSETTO:+0200
TZNAME:CEST
DTSTART:20210328T010000
END:DAYLIGHT
BEGIN:STANDARD
TZOFFSETFROM:+0200
TZOFFSETTO:+0100
TZNAME:CET
DTSTART:20211031T010000
END:STANDARD
END:VTIMEZONE
BEGIN:VTIMEZONE
TZID:America/Toronto
BEGIN:DAYLIGHT
TZOFFSETFROM:-0500
TZOFFSETTO:-0400
TZNAME:EDT
DTSTART:20190310T070000
END:DAYLIGHT
BEGIN:STANDARD
TZOFFSETFROM:-0400
TZOFFSETTO:-0500
TZNAME:EST
DTSTART:20191103T060000
END:STANDARD
BEGIN:DAYLIGHT
TZOFFSETFROM:-0500
TZOFFSETTO:-0400
TZNAME:EDT
DTSTART:20200308T070000
END:DAYLIGHT
BEGIN:STANDARD
TZOFFSETFROM:-0400
TZOFFSETTO:-0500
TZNAME:EST
DTSTART:20201101T060000
END:STANDARD
BEGIN:DAYLIGHT
TZOFFSETFROM:-0500
TZOFFSETTO:-0400
TZNAME:EDT
DTSTART:20210314T070000
END:DAYLIGHT
BEGIN:STANDARD
TZOFFSETFROM:-0400
TZOFFSETTO:-0500
TZNAME:EST
DTSTART:20211107T060000
END:STANDARD
END:VTIMEZONE
BEGIN:VEVENT
DTSTART;TZID=Europe/Paris:20201114T093000
DTEND;TZID=Europe/Paris:20201115T170000
DTSTAMP:20260425T213217
CREATED:20200729T083110Z
LAST-MODIFIED:20201101T054104Z
UID:4967-1605346200-1605459600@www.mindful-education.fr
SUMMARY:Annulée - BELFORT (région est) nov 2020 - Formation P.E.A.C.E® en milieu scolaire et éducatif
DESCRIPTION:[vc_row][vc_column][vc_custom_heading text= »14/15 novembre et 28/29 novembre 2020″ use_theme_fonts= »yes »][vc_separator color= »custom » accent_color= »#595959″ css= ».vc_custom_1561470155574{margin-top: 25px !important;} »][/vc_column][/vc_row][vc_row][vc_column][vc_custom_heading text= »DESCRIPTION » use_theme_fonts= »yes »][vc_column_text]Cette formation donne les bases pour faire pratiquer la méditation de pleine conscience et de pleine présence aux enfants et adolescents\, pendant le temps scolaire\, ou extra-scolaire\, selon les modalités du programme P.E.A.C.E.® \n\nModules 1 à 4\nCertificat de fin de formation\nAccréditation avec supervision + € 100 : obligatoire pour les intervenants extérieurs qui souhaitent intervenir en milieu scolaire ou extra-scolaire. (à régler directement à son superviseur après confirmation du stage).\nRecommandée mais non obligatoire pour les enseignants qui ne pratiquent qu’avec leurs classes.\nTarif prise en charge : faites une demande de prise en charge à l’email formationpeace@gmail.com pour une demande de devis et programme que vous devrez renvoyer à votre organisme financeur.\n\n\nNote: l’adhésion à l’association partenaire A.M.E. est à régler  pour faire votre stage d’accréditation et faire partie de la communauté d’instructeurs référencés dans les établissements scolaires. VOIR ET ADHÉRER[/vc_column_text][/vc_column][/vc_row]
URL:https://www.mindful-education.fr/formation/toulouse-formation-p-e-a-c-e-2-2-2-2/
CATEGORIES:Belfort (EST),Toulouse
ORGANIZER;CN="MINDFUL EDUCATION":MAILTO:formationpeace@gmail.com
END:VEVENT
BEGIN:VEVENT
DTSTART;TZID=America/Toronto:20201122T093000
DTEND;TZID=America/Toronto:20201122T160000
DTSTAMP:20260425T213217
CREATED:20201101T111924Z
LAST-MODIFIED:20201105T105517Z
UID:5066-1606037400-1606060800@www.mindful-education.fr
SUMMARY:Le corps conscient
DESCRIPTION:Module d’approfondissement en ligne avec Solange Eon\n\n22 novembre 2020 en ligne via zoom \nThème : Approfondir la relation au corps\, encourager l’ancrage et l’ouverture \nLors de ce module\, vous découvrirez des méditations et pratiques encourageant la relation consciente et bienveillante au corps.  Pratiques d’éveil des sens\, de conscience corporelle encourageant l’ancrage et relation à la colonne vertébrale. Facilitez bien-être\, stabilité et ouverture à tous les âges. \nAu programme\, éléments de compréhension de l’anatomie\, pratiques sur les 3 thèmes et mises en situation en petits groupes. \nOuverts aux instructeurs accrédités ou personnes ayant suivi une formation de pleine conscience en milieu éducatif. \n\nTarif instructeurs A.M.E. à jour de leur cotisation : 75 euros\nTarif instructeurs hors A.M.E. : 90 euros\n\n\n\n 
URL:https://www.mindful-education.fr/formation/lecorpsconscient-nov/
LOCATION:en ligne
ORGANIZER;CN="MINDFUL EDUCATION":MAILTO:formationpeace@gmail.com
END:VEVENT
BEGIN:VEVENT
DTSTART;TZID=Europe/Paris:20201128T093000
DTEND;TZID=Europe/Paris:20201129T170000
DTSTAMP:20260425T213217
CREATED:20200729T083947Z
LAST-MODIFIED:20200729T084912Z
UID:4971-1606555800-1606669200@www.mindful-education.fr
SUMMARY:EVREUX (Normandie) nov 2020 - Formation P.E.A.C.E® en milieu scolaire et éducatif
DESCRIPTION:[vc_row][vc_column][vc_custom_heading text= »28/29 novembre et 5/6 décembre 2020″ use_theme_fonts= »yes »][vc_separator color= »custom » accent_color= »#595959″ css= ».vc_custom_1561470155574{margin-top: 25px !important;} »][/vc_column][/vc_row][vc_row][vc_column][vc_custom_heading text= »DESCRIPTION » use_theme_fonts= »yes »][vc_column_text]Cette formation donne les bases pour faire pratiquer la méditation de pleine conscience et de pleine présence aux enfants et adolescents\, pendant le temps scolaire\, ou extra-scolaire\, selon les modalités du programme P.E.A.C.E.® \n\nModules 1 à 4\nCertificat de fin de formation\nAccréditation avec supervision + € 100 : obligatoire pour les intervenants extérieurs qui souhaitent intervenir en milieu scolaire ou extra-scolaire. (à régler directement à son superviseur après confirmation du stage).\nRecommandée mais non obligatoire pour les enseignants qui ne pratiquent qu’avec leurs classes.\nTarif prise en charge : faites une demande de prise en charge à l’email formationpeace@gmail.com pour une demande de devis et programme que vous devrez renvoyer à votre organisme financeur.\n\n\nNote: l’adhésion à l’association partenaire A.M.E. est à régler  pour faire votre stage d’accréditation et faire partie de la communauté d’instructeurs référencés dans les établissements scolaires. VOIR ET ADHÉRER[/vc_column_text][/vc_column][/vc_row]
URL:https://www.mindful-education.fr/formation/evreux-formation-p-e-a-c-e-2/
LOCATION:ALM Évreux\, 16 rue de Coudres\, Evreux\, 27000
CATEGORIES:EVREUX (normandie)
ORGANIZER;CN="MINDFUL EDUCATION":MAILTO:formationpeace@gmail.com
END:VEVENT
BEGIN:VEVENT
DTSTART;TZID=America/Toronto:20201129T093000
DTEND;TZID=America/Toronto:20201129T160000
DTSTAMP:20260425T213217
CREATED:20201101T104828Z
LAST-MODIFIED:20201105T110529Z
UID:5059-1606642200-1606665600@www.mindful-education.fr
SUMMARY:Apaiser le mental - le lien entre pensées et émotions
DESCRIPTION:Module d’approfondissement en ligne avec Barbara Foucault\n\n29 novembre 2020 en ligne via zoom \nThème : Rencontrer ses pensées\, apaiser le mental  \n\nExplorer le lien entre les émotions et les pensées afin d’aborder les apprentissages et expériences sociales plus sereinement. \nAu programme\, exposé théorique\, pratiques et mises en situation pour que vous soyez à l’aise avec les outils que nous vous proposons. \nOuverts aux instructeurs accrédités ou personnes ayant suivi une formation de pleine conscience en milieu éducatif. \n\nTarif instructeurs A.M.E. à jour de leur cotisation : 70 euros\nTarif instructeurs hors A.M.E. : 95 euros\n\n\n\n 
URL:https://www.mindful-education.fr/formation/apaiser-le-mental-le-lien-entre-pensees-et-emotions/
LOCATION:en ligne
ORGANIZER;CN="MINDFUL EDUCATION":MAILTO:formationpeace@gmail.com
END:VEVENT
END:VCALENDAR