BEGIN:VCALENDAR
VERSION:2.0
PRODID:-//Mindful Education - ECPv6.15.18//NONSGML v1.0//EN
CALSCALE:GREGORIAN
METHOD:PUBLISH
X-WR-CALNAME:Mindful Education
X-ORIGINAL-URL:https://www.mindful-education.fr
X-WR-CALDESC:Évènements pour Mindful Education
REFRESH-INTERVAL;VALUE=DURATION:PT1H
X-Robots-Tag:noindex
X-PUBLISHED-TTL:PT1H
BEGIN:VTIMEZONE
TZID:America/Toronto
BEGIN:DAYLIGHT
TZOFFSETFROM:-0500
TZOFFSETTO:-0400
TZNAME:EDT
DTSTART:20200308T070000
END:DAYLIGHT
BEGIN:STANDARD
TZOFFSETFROM:-0400
TZOFFSETTO:-0500
TZNAME:EST
DTSTART:20201101T060000
END:STANDARD
BEGIN:DAYLIGHT
TZOFFSETFROM:-0500
TZOFFSETTO:-0400
TZNAME:EDT
DTSTART:20210314T070000
END:DAYLIGHT
BEGIN:STANDARD
TZOFFSETFROM:-0400
TZOFFSETTO:-0500
TZNAME:EST
DTSTART:20211107T060000
END:STANDARD
BEGIN:DAYLIGHT
TZOFFSETFROM:-0500
TZOFFSETTO:-0400
TZNAME:EDT
DTSTART:20220313T070000
END:DAYLIGHT
BEGIN:STANDARD
TZOFFSETFROM:-0400
TZOFFSETTO:-0500
TZNAME:EST
DTSTART:20221106T060000
END:STANDARD
END:VTIMEZONE
BEGIN:VEVENT
DTSTART;TZID=America/Toronto:20210117T093000
DTEND;TZID=America/Toronto:20210117T170000
DTSTAMP:20260422T191609
CREATED:20201101T112734Z
LAST-MODIFIED:20210109T070158Z
UID:5069-1610875800-1610902800@www.mindful-education.fr
SUMMARY:Le corps conscient
DESCRIPTION:Module d’approfondissement en ligne avec Solange Eon\n\n17 janvier 2021 en ligne via zoom \nThème : Approfondir la relation au corps\, encourager l’ancrage et l’ouverture \nLors de ce module\, vous découvrirez des méditations et pratiques encourageant la relation consciente et bienveillante au corps.  Pratiques d’éveil des sens\, de conscience corporelle encourageant l’ancrage et relation à la colonne vertébrale. Facilitez bien-être\, stabilité et ouverture à tous les âges. \nAu programme\, éléments de compréhension de l’anatomie\, pratiques sur les 3 thèmes et mises en situation en petits groupes. \nOuverts aux instructeurs accrédités ou personnes ayant suivi une formation de pleine conscience en milieu éducatif. \n\nTarif instructeurs A.M.E. à jour de leur cotisation : 75 euros\nTarif instructeurs hors A.M.E. : 95 euros\n\n\n\n 
URL:https://www.mindful-education.fr/formation/corps-conscient-jan-21/
LOCATION:en ligne
ORGANIZER;CN="MINDFUL EDUCATION":MAILTO:formationpeace@gmail.com
END:VEVENT
BEGIN:VEVENT
DTSTART;TZID=America/Toronto:20210123T103000
DTEND;TZID=America/Toronto:20210123T150000
DTSTAMP:20260422T191609
CREATED:20201101T114548Z
LAST-MODIFIED:20210122T081425Z
UID:5075-1611397800-1611414000@www.mindful-education.fr
SUMMARY:Confiance en soi\, auto-compassion
DESCRIPTION:Module d’approfondissement en ligne avec Candice Marro\n\n23 janvier 2021 en ligne via zoom \nThème : renforcer la confiance en soi et la capacité d’auto-compassion \nLors de ce module\, vous découvrirez des approches et pratiques encourageant le développement de la confiance en soi et de l’auto-compassion en famille et en milieu éducatif. \nAu programme\, phases de développement clés pour la confiance et l’estime de soi\, apports de psychologie positive\, définition de l’auto-compassion\, pratiques de groupe et activités. \nOuverts aux instructeurs accrédités ou personnes ayant suivi une formation de pleine conscience en milieu éducatif. \n\nTarif instructeurs A.M.E. à jour de leur cotisation : 75 euros\nTarif instructeurs hors A.M.E. : 90 euros\nHoraires: 10H15-12H15\, pause déjeuner puis 13H15-14H45 (heure France)\n\n\n\n 
URL:https://www.mindful-education.fr/formation/apaiser-le-mental-le-lien-entre-pensees-et-emotions-3-3/
LOCATION:en ligne
ORGANIZER;CN="MINDFUL EDUCATION":MAILTO:formationpeace@gmail.com
END:VEVENT
BEGIN:VEVENT
DTSTART;TZID=America/Toronto:20210131T093000
DTEND;TZID=America/Toronto:20210131T170000
DTSTAMP:20260422T191609
CREATED:20201101T110308Z
LAST-MODIFIED:20210127T033742Z
UID:5063-1612085400-1612112400@www.mindful-education.fr
SUMMARY:Apaiser le mental - le lien entre pensées et émotions
DESCRIPTION:Module d’approfondissement en ligne avec Barbara Foucault\n\n\n31 janvier 2021 en ligne via zoom \nThème : Rencontrer ses pensées\, apaiser le mental  \n\nExplorer le lien entre les émotions et les pensées afin d’aborder les apprentissages et expériences sociales plus sereinement. \nAu programme\, exposé théorique\, pratiques et mises en situation pour que vous soyez à l’aise avec les outils que nous vous proposons. \nOuverts aux instructeurs accrédités ou personnes ayant suivi une formation de pleine conscience en milieu éducatif. \n\nTarif instructeurs A.M.E. à jour de leur cotisation : 75 euros\nTarif instructeurs hors A.M.E. : 95 euros\n\n\n\n 
URL:https://www.mindful-education.fr/formation/apaiser-le-mental-le-lien-entre-pensees-et-emotions-2/
LOCATION:en ligne
ORGANIZER;CN="MINDFUL EDUCATION":MAILTO:formationpeace@gmail.com
END:VEVENT
END:VCALENDAR