BEGIN:VCALENDAR
VERSION:2.0
PRODID:-//Mindful Education - ECPv6.15.18//NONSGML v1.0//EN
CALSCALE:GREGORIAN
METHOD:PUBLISH
X-WR-CALNAME:Mindful Education
X-ORIGINAL-URL:https://www.mindful-education.fr
X-WR-CALDESC:Évènements pour Mindful Education
REFRESH-INTERVAL;VALUE=DURATION:PT1H
X-Robots-Tag:noindex
X-PUBLISHED-TTL:PT1H
BEGIN:VTIMEZONE
TZID:America/Toronto
BEGIN:DAYLIGHT
TZOFFSETFROM:-0500
TZOFFSETTO:-0400
TZNAME:EDT
DTSTART:20210314T070000
END:DAYLIGHT
BEGIN:STANDARD
TZOFFSETFROM:-0400
TZOFFSETTO:-0500
TZNAME:EST
DTSTART:20211107T060000
END:STANDARD
BEGIN:DAYLIGHT
TZOFFSETFROM:-0500
TZOFFSETTO:-0400
TZNAME:EDT
DTSTART:20220313T070000
END:DAYLIGHT
BEGIN:STANDARD
TZOFFSETFROM:-0400
TZOFFSETTO:-0500
TZNAME:EST
DTSTART:20221106T060000
END:STANDARD
BEGIN:DAYLIGHT
TZOFFSETFROM:-0500
TZOFFSETTO:-0400
TZNAME:EDT
DTSTART:20230312T070000
END:DAYLIGHT
BEGIN:STANDARD
TZOFFSETFROM:-0400
TZOFFSETTO:-0500
TZNAME:EST
DTSTART:20231105T060000
END:STANDARD
END:VTIMEZONE
BEGIN:VTIMEZONE
TZID:Europe/Paris
BEGIN:DAYLIGHT
TZOFFSETFROM:+0100
TZOFFSETTO:+0200
TZNAME:CEST
DTSTART:20210328T010000
END:DAYLIGHT
BEGIN:STANDARD
TZOFFSETFROM:+0200
TZOFFSETTO:+0100
TZNAME:CET
DTSTART:20211031T010000
END:STANDARD
BEGIN:DAYLIGHT
TZOFFSETFROM:+0100
TZOFFSETTO:+0200
TZNAME:CEST
DTSTART:20220327T010000
END:DAYLIGHT
BEGIN:STANDARD
TZOFFSETFROM:+0200
TZOFFSETTO:+0100
TZNAME:CET
DTSTART:20221030T010000
END:STANDARD
BEGIN:DAYLIGHT
TZOFFSETFROM:+0100
TZOFFSETTO:+0200
TZNAME:CEST
DTSTART:20230326T010000
END:DAYLIGHT
BEGIN:STANDARD
TZOFFSETFROM:+0200
TZOFFSETTO:+0100
TZNAME:CET
DTSTART:20231029T010000
END:STANDARD
END:VTIMEZONE
BEGIN:VEVENT
DTSTART;TZID=America/Toronto:20220205T093000
DTEND;TZID=America/Toronto:20220208T170000
DTSTAMP:20260424T010554
CREATED:20220123T081146Z
LAST-MODIFIED:20220123T083221Z
UID:5565-1644053400-1644339600@www.mindful-education.fr
SUMMARY:P.E.A.C.E Lille - instructeurs formés - 5 au 8 février 22
DESCRIPTION:Inscription limitée aux instructeurs P.E.A.C.E déjà formés et souhaitant se remettre à niveau. \nVous recevrez un email avec les détails logistiques suite à votre inscription \n 
URL:https://www.mindful-education.fr/formation/p-e-a-c-e-lille-instructeurs-formes-5-au-8-fevrier-22/
LOCATION:18 Rue de la Halle\, Lille\, Hauts-de-France 59800\, France\, 18 rue de la Halle\, Lille
ATTACH;FMTTYPE=image/jpeg:https://www.mindful-education.fr/wp-content/uploads/2019/07/logo_peace_fr.jpg
ORGANIZER;CN="MINDFUL EDUCATION":MAILTO:formationpeace@gmail.com
END:VEVENT
BEGIN:VEVENT
DTSTART;TZID=Europe/Paris:20220205T093000
DTEND;TZID=Europe/Paris:20220208T173000
DTSTAMP:20260424T010554
CREATED:20210922T131038Z
LAST-MODIFIED:20211021T040849Z
UID:5444-1644053400-1644341400@www.mindful-education.fr
SUMMARY:Région Lille février 22- Formation P.E.A.C.E® en milieu scolaire et éducatif
DESCRIPTION:[vc_row][vc_column][vc_custom_heading text= » 5 au 8 février 2022″ use_theme_fonts= »yes »][vc_separator color= »custom » accent_color= »#595959″ css= ».vc_custom_1561470155574{margin-top: 25px !important;} »][/vc_column][/vc_row][vc_row][vc_column][vc_custom_heading text= »DESCRIPTION » use_theme_fonts= »yes »][vc_column_text]Cette formation donne les bases pour faire pratiquer la méditation de pleine conscience et de pleine présence aux enfants et adolescents\, pendant le temps scolaire\, ou extra-scolaire\, selon les modalités du programme P.E.A.C.E.® \n\nModules 1 à 4\nCertificat de fin de formation\nAccréditation avec supervision + € 120 : obligatoire pour les intervenants extérieurs qui souhaitent intervenir en milieu scolaire ou extra-scolaire. (à régler directement à son superviseur après confirmation du stage).\nRecommandée mais non obligatoire pour les enseignants qui ne pratiquent qu’avec leurs classes.\nTarif prise en charge (+100€) : faites une demande de prise en charge à l’email formationpeace@gmail.com pour une demande de devis et programme que vous devrez renvoyer à votre organisme financeur.\n\n\nNote: l’adhésion à l’association partenaire A.M.E. est à régler  pour faire votre stage d’accréditation et faire partie de la communauté d’instructeurs référencés dans les établissements scolaires. VOIR ET ADHÉRER[/vc_column_text][/vc_column][/vc_row]
URL:https://www.mindful-education.fr/formation/lille-2-2-2/
CATEGORIES:Aix-en-Provence,Lille,Paris
ORGANIZER;CN="MINDFUL EDUCATION":MAILTO:formationpeace@gmail.com
END:VEVENT
BEGIN:VEVENT
DTSTART;TZID=America/Toronto:20220212T093000
DTEND;TZID=America/Toronto:20220215T170000
DTSTAMP:20260424T010554
CREATED:20220123T084735Z
LAST-MODIFIED:20220123T085238Z
UID:5568-1644658200-1644944400@www.mindful-education.fr
SUMMARY:P.E.A.C.E Lyon - instructeurs formés - 12 au 15 février 22
DESCRIPTION:Attention : Inscription exclusivement pour les instructeurs P.E.A.C.E déjà formés et souhaitant se remettre à niveau. \nVous recevrez un email avec les détails logistiques suite à votre inscription \n 
URL:https://www.mindful-education.fr/formation/p-e-a-c-e-lyon-instructeurs-formes-12-au-15-fevrier-22-2/
CATEGORIES:LYON
ATTACH;FMTTYPE=image/jpeg:https://www.mindful-education.fr/wp-content/uploads/2019/07/logo_peace_fr.jpg
ORGANIZER;CN="MINDFUL EDUCATION":MAILTO:formationpeace@gmail.com
END:VEVENT
BEGIN:VEVENT
DTSTART;TZID=Europe/Paris:20220212T093000
DTEND;TZID=Europe/Paris:20220215T173000
DTSTAMP:20260424T010554
CREATED:20210922T131409Z
LAST-MODIFIED:20210922T134512Z
UID:5446-1644658200-1644946200@www.mindful-education.fr
SUMMARY:Région Lyon février 22- Formation P.E.A.C.E® en milieu scolaire et éducatif
DESCRIPTION:[vc_row][vc_column][vc_custom_heading text= » 12 au 15 février 2022″ use_theme_fonts= »yes »][vc_separator color= »custom » accent_color= »#595959″ css= ».vc_custom_1561470155574{margin-top: 25px !important;} »][/vc_column][/vc_row][vc_row][vc_column][vc_custom_heading text= »DESCRIPTION » use_theme_fonts= »yes »][vc_column_text]Cette formation donne les bases pour faire pratiquer la méditation de pleine conscience et de pleine présence aux enfants et adolescents\, pendant le temps scolaire\, ou extra-scolaire\, selon les modalités du programme P.E.A.C.E.® \n\nModules 1 à 4\nCertificat de fin de formation\nAccréditation avec supervision + € 120 : obligatoire pour les intervenants extérieurs qui souhaitent intervenir en milieu scolaire ou extra-scolaire. (à régler directement à son superviseur après confirmation du stage).\nRecommandée mais non obligatoire pour les enseignants qui ne pratiquent qu’avec leurs classes.\nTarif prise en charge (+100€) : faites une demande de prise en charge à l’email formationpeace@gmail.com pour une demande de devis et programme que vous devrez renvoyer à votre organisme financeur.\n\n\nNote: l’adhésion à l’association partenaire A.M.E. est à régler  pour faire votre stage d’accréditation et faire partie de la communauté d’instructeurs référencés dans les établissements scolaires. VOIR ET ADHÉRER[/vc_column_text][/vc_column][/vc_row]
URL:https://www.mindful-education.fr/formation/lyon-2-2-2-2/
CATEGORIES:LYON
ORGANIZER;CN="MINDFUL EDUCATION":MAILTO:formationpeace@gmail.com
END:VEVENT
END:VCALENDAR