BEGIN:VCALENDAR
VERSION:2.0
PRODID:-//Mindful Education - ECPv6.15.18//NONSGML v1.0//EN
CALSCALE:GREGORIAN
METHOD:PUBLISH
X-WR-CALNAME:Mindful Education
X-ORIGINAL-URL:https://www.mindful-education.fr
X-WR-CALDESC:Évènements pour Mindful Education
REFRESH-INTERVAL;VALUE=DURATION:PT1H
X-Robots-Tag:noindex
X-PUBLISHED-TTL:PT1H
BEGIN:VTIMEZONE
TZID:America/Toronto
BEGIN:DAYLIGHT
TZOFFSETFROM:-0500
TZOFFSETTO:-0400
TZNAME:EDT
DTSTART:20220313T070000
END:DAYLIGHT
BEGIN:STANDARD
TZOFFSETFROM:-0400
TZOFFSETTO:-0500
TZNAME:EST
DTSTART:20221106T060000
END:STANDARD
BEGIN:DAYLIGHT
TZOFFSETFROM:-0500
TZOFFSETTO:-0400
TZNAME:EDT
DTSTART:20230312T070000
END:DAYLIGHT
BEGIN:STANDARD
TZOFFSETFROM:-0400
TZOFFSETTO:-0500
TZNAME:EST
DTSTART:20231105T060000
END:STANDARD
BEGIN:DAYLIGHT
TZOFFSETFROM:-0500
TZOFFSETTO:-0400
TZNAME:EDT
DTSTART:20240310T070000
END:DAYLIGHT
BEGIN:STANDARD
TZOFFSETFROM:-0400
TZOFFSETTO:-0500
TZNAME:EST
DTSTART:20241103T060000
END:STANDARD
END:VTIMEZONE
BEGIN:VTIMEZONE
TZID:Europe/Paris
BEGIN:DAYLIGHT
TZOFFSETFROM:+0100
TZOFFSETTO:+0200
TZNAME:CEST
DTSTART:20220327T010000
END:DAYLIGHT
BEGIN:STANDARD
TZOFFSETFROM:+0200
TZOFFSETTO:+0100
TZNAME:CET
DTSTART:20221030T010000
END:STANDARD
BEGIN:DAYLIGHT
TZOFFSETFROM:+0100
TZOFFSETTO:+0200
TZNAME:CEST
DTSTART:20230326T010000
END:DAYLIGHT
BEGIN:STANDARD
TZOFFSETFROM:+0200
TZOFFSETTO:+0100
TZNAME:CET
DTSTART:20231029T010000
END:STANDARD
BEGIN:DAYLIGHT
TZOFFSETFROM:+0100
TZOFFSETTO:+0200
TZNAME:CEST
DTSTART:20240331T010000
END:DAYLIGHT
BEGIN:STANDARD
TZOFFSETFROM:+0200
TZOFFSETTO:+0100
TZNAME:CET
DTSTART:20241027T010000
END:STANDARD
END:VTIMEZONE
BEGIN:VEVENT
DTSTART;TZID=America/Toronto:20230907T180000
DTEND;TZID=America/Toronto:20230907T200000
DTSTAMP:20260423T130232
CREATED:20230623T065812Z
LAST-MODIFIED:20230722T131824Z
UID:5892-1694109600-1694116800@www.mindful-education.fr
SUMMARY:07/09 Visio Peace elearning
DESCRIPTION:Ce contenu est protégé
URL:https://www.mindful-education.fr/formation/visio-peace-elearning-2-2-2-2-2/
LOCATION:en ligne
END:VEVENT
BEGIN:VEVENT
DTSTART;TZID=Europe/Paris:20230911T180000
DTEND;TZID=Europe/Paris:20230911T184500
DTSTAMP:20260423T130232
CREATED:20230814T084901Z
LAST-MODIFIED:20230906T145232Z
UID:5968-1694455200-1694457900@www.mindful-education.fr
SUMMARY:11 septembre- Session découverte formations P.E.A.C.E®
DESCRIPTION:1 session de 45 mins avec formateur-trice PEACE pour découvrir les formations et leur format et poser vos questions \n\nP.E.A.C.E en milieu scolaire et éducatif (sur site\, à distance\, en formule hybride)\nP.E.A.C.E Educ Santé (à distance ou en intra)\n\nLien envoyé après l’inscription
URL:https://www.mindful-education.fr/formation/sessiondecouverte-2/
LOCATION:en ligne
CATEGORIES:session découverte PEACE
ATTACH;FMTTYPE=image/jpeg:https://www.mindful-education.fr/wp-content/uploads/2023/01/JEU_PEACE_recto_Page_26.jpg
END:VEVENT
BEGIN:VEVENT
DTSTART;TZID=Europe/Paris:20230914T194500
DTEND;TZID=Europe/Paris:20231019T221500
DTSTAMP:20260423T130232
CREATED:20230502T143547Z
LAST-MODIFIED:20230629T134201Z
UID:5843-1694720700-1697753700@www.mindful-education.fr
SUMMARY:P.E.A.C.E® Education Santé - formation à distance 14 Septembre- 19 octobre
DESCRIPTION:La méditation de présence attentive pour prendre soin des enfants et des jeunes en situation de fragilité\nTous les jeudis de 19h45 à 22h15 \nParcours inspiré de la méthode P.E.A.C.E®\nPublic: \nPersonnel soignant\, thérapeutes\, psychologues\, psychopédagogues\, centres spécialisés d’aide à l’enfance\, infirmier-e-s\, médecins\, associations de soutien scolaire\, coachs individuels… \nObjectif général:\nPratiquer la présence attentive avec les enfants et les ados en situation de fragilité (santé mentale\, handicaps…) \n\n\nObjectif Général\n\n\nLe programme P.E.A.C.E® adapté (Présence\, Ecoute\, Attention\, Corporalité\, Emotions) est basé sur la pratique de la présence attentive pleine conscience) avec les enfants et les ados en difficulté mentale ou/et physique. \nLes chercheurs ont pu certifier que la pratique de la méditation chaque jour au moins 20mn\, pendant 8 semaines\, réduit considérablement les effets du stress et de l’anxiété\, améliore la qualité du sommeil\, la sensation de bien-être corporel\, et renforce l’immunité. \nCe parcours adapté aux professionnels et accompagnants d’enfants ou de jeunes en situation de fragilité permet de découvrir et d’appliquer des outils de gestion des tensions intérieures\, du stress\, de l’anxiété ou d’handicaps\, tout en favorisant l’émergence de la confiance en soi et le développement des ressources de l’enfant ou du jeune. \n2.     Développement des compétences\n\nComprendre l’impact des émotions et du stress sur le corps et donc sur la santé mentale et physique\nInstaller un cadre de confiance et de sécurité avec les enfants et les jeunes\nPratiquer avec la conscience de la présence de traumas (trauma based mindfulness)\nApprendre à animer des séances structurées et des pratiques simples de présence attentive en petit groupe ou en individuel\n\n3. Contenu \nChaque module intègre des pratiques inspirées du programme P.E.A.C.E. ® avec des enfants\, adolescents ou jeunes adultes. \n Module 1 : Les bases de la pratique avec les enfants /adolescents en situation de fragilité \n\nLe cadre de sécurité et les permissions\nLa structure d’un atelier type\nLa posture de l’encadrant et la dimension corporelle\nLes pratiques de présence attentive et le trauma\n\nModule 2 : Les pratiques qui favorisent le bien-être physique et mental \n\nDévelopper l’attention à la respiration et aux ressentis\nApprendre à relâcher les tensions corporelles\nLa présence attentive en mouvement\n\nModule 3 : Pratiques pour la régulation du stress et des émotions\n\nPratiques de centration et d’ancrag\nNommer\, identifier\, faire circuler les charges émotionnelles\nApaiser le mental et l’anxiété\n\nModule 4 : Pratiques pour développer les ressources et  la confiance en soi \n\nDécouvrir les ressources et faire un bilan\nLes émotions positives (la gratitude\, l’auto-compassion\, devenir son meilleur allié)\nNourrir la confiance en soi tous les jours\n\n4. Durée et modalités de la formation\n\n6 sessions de 2h30 en visio de 19h45 à 22H15\nAccès à un espace de ressources en lignes.\nManuel pédagogique et livrets de pratique\nTest de fin de formation\nCertificat de fin de formation\nAutres modalités: en INTRA/ coût par module pour vos équipes\, nous contacter pour devis : formationpeace@gmail.com\n\n5. Pré-requis (une seule option suffit)\n\nFormation PAUSE de l’Association pour la Méditation laïque dans l’Education  \nProgramme M.B.S.R\, M.B.C.T ou similaire\nProgramme P.E.A.C.E en milieu scolaire et éducatif\n\n6. Tarifs individuels\n\n€ 490 (règlement en 2 fois possible)\nTarif prise en charge (+200€) : faites une demande de prise en charge sur le site ou à l’email formationpeace@gmail.com pour une demande de devis et programme que vous devrez renvoyer à votre organisme financeur.\n\n7. Tarifs instructeurs P.E.A.C.E®\n\nSi vous êtes déjà formés au programme P.E.A.C.E\, vous pourrez vous inscrire dans le cadre de la formation continue à un coût réduit de €390. Nous contacter par email formationpeace@gmail.com avant inscription pour envoi du code de réduction.
URL:https://www.mindful-education.fr/formation/educsante-14-sept-oct-23/
LOCATION:en ligne
CATEGORIES:PEACE Education santé
ORGANIZER;CN="MINDFUL EDUCATION":MAILTO:formationpeace@gmail.com
END:VEVENT
BEGIN:VEVENT
DTSTART;TZID=America/Toronto:20230916T000000
DTEND;TZID=America/Toronto:20230916T000000
DTSTAMP:20260423T130232
CREATED:20230821T064253Z
LAST-MODIFIED:20230821T065155Z
UID:5983-1694822400-1694822400@www.mindful-education.fr
SUMMARY:P.E.A.C.E® milieu éducatif e-learning
DESCRIPTION:Parcours en 3 modules et 9 leçons.\nPour les milieux éducatifs.\nIl est accessible au personnel éducatif et aux intervenants extérieurs en milieu éducatif avec pré-requis. Il permet de suivre une approche codifiée et expérimentée afin d’intégrer les apports et outils de la présence attentive pendant le temps des apprentissages\, en groupe ou autres modalités propres au milieu éducatif. \nObjectif: vous apprendrez à animer des temps de retour à l’attention et de développement des capacités attentionnelles\, émotionnelles et psycho-sociales avec des groupes d’enfants de 12 à 18 ans. \nModalités: Ce cours se complète en approximativement 8 semaines. L’inscription à une session avec une date de début et de fin est obligatoire. Lorsque le cours s’ouvre\, vous commencez vos premières leçons en toute autonomie\, aux heures et rythme qui vous conviennent . Nous vous envoyons un calendrier de dates des visios avec nos formateurs-trices et vous choisissez vos dates et heures en fonction de votre avancée dans le programme. 3 visios sont nécessaires pour compléter la formation. \nCertification: un certificat vous est remis en fin de cours. \nAccréditation : Pour être accrédité et faire partie du réseau d’instructeurtrices P.E.A.C.E® référencé il faut néanmoins compléter la formation par un stage de 10 semaines supervisé en milieu éducatif (scolaire\, extra scolaire\, autres).\nL’accréditation est obligatoire pour les intervenants extérieurs souhaitant intervenir en milieu scolaire et le personnel éducatif à l’école. \nElle est conseilllée pour les interventions dans d’autres cadres mais non obligatoire. \nInscription directement sur le site PEACE à distance: https://elearning.peace-mindful-education.com/prochaines-sessions/
URL:https://www.mindful-education.fr/formation/p-e-a-c-e-milieu-educatif-e-learning/
LOCATION:en ligne
END:VEVENT
BEGIN:VEVENT
DTSTART;TZID=America/Toronto:20230923T160000
DTEND;TZID=America/Toronto:20230923T180000
DTSTAMP:20260423T130232
CREATED:20230722T131932Z
LAST-MODIFIED:20230920T021245Z
UID:5943-1695484800-1695492000@www.mindful-education.fr
SUMMARY:23/09 Visio Peace elearning
DESCRIPTION:Ce contenu est protégé
URL:https://www.mindful-education.fr/formation/visio-peace-elearning-3/
LOCATION:en ligne
END:VEVENT
BEGIN:VEVENT
DTSTART;TZID=Europe/Paris:20230927T183000
DTEND;TZID=Europe/Paris:20231108T201500
DTSTAMP:20260423T130232
CREATED:20230502T083551Z
LAST-MODIFIED:20230925T115011Z
UID:5130-1695839400-1699474500@www.mindful-education.fr
SUMMARY:Formation Intervenant pleine conscience dans l'Enseignement Supérieur
DESCRIPTION:Session de rentrée 2023/2024 – automne\nDu 27 septembre au 8 novembre (8 mercredis) 18H30 à 20h15 CET – 12h30 à 14h15 fuseaux -6H\nApprenez à faciliter des séances et modules basés sur l’intégration de la pleine conscience dans l’enseignement supérieur.  \n Pré-requis:  \n\nsoit être formé à P.E.A.C.E®  en milieu éducatif\navoir suivi un atelier de facilitation aux Cercles BefriendYourMind ou ateliers étudiants avec Eco Mindful\navoir suivi le parcours d’eco facilitation:  https://isabellegiraldo.com/ecofacilitation\n\nAutres: personnel en milieu universitaire ou grande école – nous contacter\n\n1-Présentation \nLe parcours de facilitation dans l’enseignement supérieur est une adaptation du programme P.E.A.C.E et a été testé depuis 4 ans  auprès de centaines d’étudiants en grande école ou à l’université. \nIl s’articule autour de 8 thèmes que vous pourrez adapter soit en format Cours/modules dédiés ou davantage lors de séances de pratique et de sensibilisation durant les cours. \n1- Objectif \n\nFaciliter des cours/modules et mener des pratiques de méditation de pleine conscience auprès des étudiants du cycle supérieur ou les 18-25 ans.\n\n2-Contenu (thèmes abordés) \n\nThème 1 : Découverte de la pleine conscience\, pleine présence – Les bases\nThème 2 : Les différents mode d’attention\, déjouer le pilote automatique\nThème 3 : Régulation du stress et résilience\nThème 4 : Faire face aux émotions\nThème 5 : Développer ressources et émotions positives\nThème 6 : Le fonctionnement des pensées- le cognitif\nThème 7 : Atelier les drivers\nThème 8 : La Relation aux autres\, mieux communiquer\n\n3-Durée de la formation \n\n14H réparties sur 7 rencontres d’1H45 en ligne + 2h d’intervision\n+ 1 leçon du module en ligne/semaine à visionner en autonomie\nTravail d’intersession – tenir un journal de pratique et enregistrement d’audios de méditation\n2 h d’intervision en groupe avec préparation préalable d’animation d’un module à présenter\n\n4-Atouts de ce programme  \nVous aurez accès aux ressources et supports suivants: \n\nDès inscription\, un accès au module en e-learning « cultiver la connexion\, l’ancrage et la résilience par la méditation de pleine présence ‘ conçu pour les étudiants par ecomindful.\nWorkbook à télécharger\n8 PPT sur chaque thématique\n2 livrets de pratiques de méditation adaptées de PEACE avec différentes thématiques\nModèles de journal de bord pour les étudiants\nActivités suggérées\n\n• Des pratiques validées sur le terrain et mesurées scientifiquement\n• Parcours développé par Candice Marro et Ecomindful \n5- Dates\, Horaires\, Tarif \nDu 27 septembre au 8 novembre (7 mercredis + 1 visio de 2h à définir ensemble pour intervision des stagiaires) 18H30 à 20h45 CET – 12h30 à 14h15 fuseaux -6H \n\n490 € \n430 € (Pour les adhérents des associations partenaires (AMLE\, AMESuisse\, Belgique)\nTarif spécial pour Étudiants qui souhaitent devenir facilitateur (nous contacter)\n\n\nNote: l’adhésion à l’association partenaire A.M.L.E. est à régler  si vous souhaitez bénéficier du tarif adhérent VOIR ET ADHÉRER[/vc_column_text][/vc_column][/vc_row] \n  \n 
URL:https://www.mindful-education.fr/formation/pleineconscience-ens-sup-autome23/
LOCATION:en ligne
ATTACH;FMTTYPE=image/jpeg:https://www.mindful-education.fr/wp-content/uploads/2021/01/IMG_1702.jpg
ORGANIZER;CN="MINDFUL EDUCATION":MAILTO:formationpeace@gmail.com
END:VEVENT
END:VCALENDAR