BEGIN:VCALENDAR
VERSION:2.0
PRODID:-//Mindful Education - ECPv6.15.18//NONSGML v1.0//EN
CALSCALE:GREGORIAN
METHOD:PUBLISH
X-ORIGINAL-URL:https://www.mindful-education.fr
X-WR-CALDESC:Évènements pour Mindful Education
REFRESH-INTERVAL;VALUE=DURATION:PT1H
X-Robots-Tag:noindex
X-PUBLISHED-TTL:PT1H
BEGIN:VTIMEZONE
TZID:Europe/Paris
BEGIN:DAYLIGHT
TZOFFSETFROM:+0100
TZOFFSETTO:+0200
TZNAME:CEST
DTSTART:20220327T010000
END:DAYLIGHT
BEGIN:STANDARD
TZOFFSETFROM:+0200
TZOFFSETTO:+0100
TZNAME:CET
DTSTART:20221030T010000
END:STANDARD
BEGIN:DAYLIGHT
TZOFFSETFROM:+0100
TZOFFSETTO:+0200
TZNAME:CEST
DTSTART:20230326T010000
END:DAYLIGHT
BEGIN:STANDARD
TZOFFSETFROM:+0200
TZOFFSETTO:+0100
TZNAME:CET
DTSTART:20231029T010000
END:STANDARD
BEGIN:DAYLIGHT
TZOFFSETFROM:+0100
TZOFFSETTO:+0200
TZNAME:CEST
DTSTART:20240331T010000
END:DAYLIGHT
BEGIN:STANDARD
TZOFFSETFROM:+0200
TZOFFSETTO:+0100
TZNAME:CET
DTSTART:20241027T010000
END:STANDARD
END:VTIMEZONE
BEGIN:VTIMEZONE
TZID:America/Toronto
BEGIN:DAYLIGHT
TZOFFSETFROM:-0500
TZOFFSETTO:-0400
TZNAME:EDT
DTSTART:20220313T070000
END:DAYLIGHT
BEGIN:STANDARD
TZOFFSETFROM:-0400
TZOFFSETTO:-0500
TZNAME:EST
DTSTART:20221106T060000
END:STANDARD
BEGIN:DAYLIGHT
TZOFFSETFROM:-0500
TZOFFSETTO:-0400
TZNAME:EDT
DTSTART:20230312T070000
END:DAYLIGHT
BEGIN:STANDARD
TZOFFSETFROM:-0400
TZOFFSETTO:-0500
TZNAME:EST
DTSTART:20231105T060000
END:STANDARD
BEGIN:DAYLIGHT
TZOFFSETFROM:-0500
TZOFFSETTO:-0400
TZNAME:EDT
DTSTART:20240310T070000
END:DAYLIGHT
BEGIN:STANDARD
TZOFFSETFROM:-0400
TZOFFSETTO:-0500
TZNAME:EST
DTSTART:20241103T060000
END:STANDARD
END:VTIMEZONE
BEGIN:VEVENT
DTSTART;TZID=Europe/Paris:20230927T183000
DTEND;TZID=Europe/Paris:20231108T201500
DTSTAMP:20260423T094805
CREATED:20230502T083551Z
LAST-MODIFIED:20230925T115011Z
UID:5130-1695839400-1699474500@www.mindful-education.fr
SUMMARY:Formation Intervenant pleine conscience dans l'Enseignement Supérieur
DESCRIPTION:Session de rentrée 2023/2024 – automne\nDu 27 septembre au 8 novembre (8 mercredis) 18H30 à 20h15 CET – 12h30 à 14h15 fuseaux -6H\nApprenez à faciliter des séances et modules basés sur l’intégration de la pleine conscience dans l’enseignement supérieur.  \n Pré-requis:  \n\nsoit être formé à P.E.A.C.E®  en milieu éducatif\navoir suivi un atelier de facilitation aux Cercles BefriendYourMind ou ateliers étudiants avec Eco Mindful\navoir suivi le parcours d’eco facilitation:  https://isabellegiraldo.com/ecofacilitation\n\nAutres: personnel en milieu universitaire ou grande école – nous contacter\n\n1-Présentation \nLe parcours de facilitation dans l’enseignement supérieur est une adaptation du programme P.E.A.C.E et a été testé depuis 4 ans  auprès de centaines d’étudiants en grande école ou à l’université. \nIl s’articule autour de 8 thèmes que vous pourrez adapter soit en format Cours/modules dédiés ou davantage lors de séances de pratique et de sensibilisation durant les cours. \n1- Objectif \n\nFaciliter des cours/modules et mener des pratiques de méditation de pleine conscience auprès des étudiants du cycle supérieur ou les 18-25 ans.\n\n2-Contenu (thèmes abordés) \n\nThème 1 : Découverte de la pleine conscience\, pleine présence – Les bases\nThème 2 : Les différents mode d’attention\, déjouer le pilote automatique\nThème 3 : Régulation du stress et résilience\nThème 4 : Faire face aux émotions\nThème 5 : Développer ressources et émotions positives\nThème 6 : Le fonctionnement des pensées- le cognitif\nThème 7 : Atelier les drivers\nThème 8 : La Relation aux autres\, mieux communiquer\n\n3-Durée de la formation \n\n14H réparties sur 7 rencontres d’1H45 en ligne + 2h d’intervision\n+ 1 leçon du module en ligne/semaine à visionner en autonomie\nTravail d’intersession – tenir un journal de pratique et enregistrement d’audios de méditation\n2 h d’intervision en groupe avec préparation préalable d’animation d’un module à présenter\n\n4-Atouts de ce programme  \nVous aurez accès aux ressources et supports suivants: \n\nDès inscription\, un accès au module en e-learning « cultiver la connexion\, l’ancrage et la résilience par la méditation de pleine présence ‘ conçu pour les étudiants par ecomindful.\nWorkbook à télécharger\n8 PPT sur chaque thématique\n2 livrets de pratiques de méditation adaptées de PEACE avec différentes thématiques\nModèles de journal de bord pour les étudiants\nActivités suggérées\n\n• Des pratiques validées sur le terrain et mesurées scientifiquement\n• Parcours développé par Candice Marro et Ecomindful \n5- Dates\, Horaires\, Tarif \nDu 27 septembre au 8 novembre (7 mercredis + 1 visio de 2h à définir ensemble pour intervision des stagiaires) 18H30 à 20h45 CET – 12h30 à 14h15 fuseaux -6H \n\n490 € \n430 € (Pour les adhérents des associations partenaires (AMLE\, AMESuisse\, Belgique)\nTarif spécial pour Étudiants qui souhaitent devenir facilitateur (nous contacter)\n\n\nNote: l’adhésion à l’association partenaire A.M.L.E. est à régler  si vous souhaitez bénéficier du tarif adhérent VOIR ET ADHÉRER[/vc_column_text][/vc_column][/vc_row] \n  \n 
URL:https://www.mindful-education.fr/formation/pleineconscience-ens-sup-autome23/
LOCATION:en ligne
ATTACH;FMTTYPE=image/jpeg:https://www.mindful-education.fr/wp-content/uploads/2021/01/IMG_1702.jpg
ORGANIZER;CN="MINDFUL EDUCATION":MAILTO:formationpeace@gmail.com
END:VEVENT
BEGIN:VEVENT
DTSTART;TZID=Europe/Paris:20231030T093000
DTEND;TZID=Europe/Paris:20231102T173000
DTSTAMP:20260423T094805
CREATED:20230821T070016Z
LAST-MODIFIED:20230821T070016Z
UID:5987-1698658200-1698946200@www.mindful-education.fr
SUMMARY:Bruxelles sur site- Formation P.E.A.C.E® en milieu scolaire et éducatif
DESCRIPTION:[vc_row][vc_column][vc_custom_heading text= » 30 octobre au 02 Nov 2023″ use_theme_fonts= »yes »][vc_separator color= »custom » accent_color= »#595959″ css= ».vc_custom_1561470155574{margin-top: 25px !important;} »][/vc_column][/vc_row][vc_row][vc_column][vc_custom_heading text= »DESCRIPTION » use_theme_fonts= »yes »][vc_column_text]Cette formation donne les bases pour faire pratiquer la méditation de pleine conscience et de pleine présence aux enfants et adolescents\, pendant le temps scolaire\, ou extra-scolaire\, selon les modalités du programme P.E.A.C.E.® \n\nModules 1 à 4\nCertificat de fin de formation\nAccréditation avec supervision + € 120 : obligatoire pour les intervenants extérieurs qui souhaitent intervenir en milieu scolaire ou extra-scolaire. (à régler directement à son superviseur après confirmation du stage).\nRecommandée mais non obligatoire pour les enseignants qui ne pratiquent qu’avec leurs classes.\nTarif prise en charge (+200€) : faites une demande de prise en charge à l’email formationpeace@gmail.com pour une demande de devis et programme que vous devrez renvoyer à votre organisme financeur.\n\nINSCRIPTIONS VIA EMERGENCES : https://www.emergences.org\n\nNote: l’adhésion à l’association partenaire A.M.LE. ou A.M.E.B (belgique) est à régler  pour faire votre stage d’accréditation et faire partie de la communauté d’instructeurs référencés dans les établissements scolaires. VOIR ET ADHÉRER[/vc_column_text][/vc_column][/vc_row]
URL:https://www.mindful-education.fr/formation/bruxelles30oct-2nov-2/
LOCATION:Jardins à Etterbeek\, 54\, rue des cultivateurs\, BRUXELLES\, 1040\, Belgique
CATEGORIES:Bruxelles
END:VEVENT
BEGIN:VEVENT
DTSTART;TZID=America/Toronto:20231110T180000
DTEND;TZID=America/Toronto:20231110T200000
DTSTAMP:20260423T094805
CREATED:20230920T021910Z
LAST-MODIFIED:20230923T054156Z
UID:6026-1699639200-1699646400@www.mindful-education.fr
SUMMARY:10/11 Visio Peace elearning
DESCRIPTION:Ce contenu est protégé
URL:https://www.mindful-education.fr/formation/visio-peace-elearning-10-nov/
LOCATION:en ligne
END:VEVENT
BEGIN:VEVENT
DTSTART;TZID=America/Toronto:20231118T090000
DTEND;TZID=America/Toronto:20231118T110000
DTSTAMP:20260423T094805
CREATED:20231023T064750Z
LAST-MODIFIED:20231023T065127Z
UID:6060-1700298000-1700305200@www.mindful-education.fr
SUMMARY:18/11 Visio Peace elearning
DESCRIPTION:Ce contenu est protégé
URL:https://www.mindful-education.fr/formation/visio-peace-elearning-18-nov-2/
LOCATION:en ligne
END:VEVENT
BEGIN:VEVENT
DTSTART;TZID=America/Toronto:20231125T000000
DTEND;TZID=America/Toronto:20231125T000000
DTSTAMP:20260423T094805
CREATED:20230821T065105Z
LAST-MODIFIED:20230821T065105Z
UID:5986-1700870400-1700870400@www.mindful-education.fr
SUMMARY:P.E.A.C.E® milieu éducatif e-learning
DESCRIPTION:Parcours en 3 modules et 9 leçons.\nPour les milieux éducatifs.\nIl est accessible au personnel éducatif et aux intervenants extérieurs en milieu éducatif avec pré-requis. Il permet de suivre une approche codifiée et expérimentée afin d’intégrer les apports et outils de la présence attentive pendant le temps des apprentissages\, en groupe ou autres modalités propres au milieu éducatif. \nObjectif: vous apprendrez à animer des temps de retour à l’attention et de développement des capacités attentionnelles\, émotionnelles et psycho-sociales avec des groupes d’enfants de 12 à 18 ans. \nModalités: Ce cours se complète en approximativement 8 semaines. L’inscription à une session avec une date de début et de fin est obligatoire. Lorsque le cours s’ouvre\, vous commencez vos premières leçons en toute autonomie\, aux heures et rythme qui vous conviennent . Nous vous envoyons un calendrier de dates des visios avec nos formateurs-trices et vous choisissez vos dates et heures en fonction de votre avancée dans le programme. 3 visios sont nécessaires pour compléter la formation. \nCertification: un certificat vous est remis en fin de cours. \nAccréditation : Pour être accrédité et faire partie du réseau d’instructeurtrices P.E.A.C.E® référencé il faut néanmoins compléter la formation par un stage de 10 semaines supervisé en milieu éducatif (scolaire\, extra scolaire\, autres).\nL’accréditation est obligatoire pour les intervenants extérieurs souhaitant intervenir en milieu scolaire et le personnel éducatif à l’école. \nElle est conseilllée pour les interventions dans d’autres cadres mais non obligatoire. \nInscription directement sur le site PEACE à distance: https://elearning.peace-mindful-education.com/prochaines-sessions/
URL:https://www.mindful-education.fr/formation/p-e-a-c-e-milieu-educatif-e-learning-2-2/
LOCATION:en ligne
END:VEVENT
BEGIN:VEVENT
DTSTART;TZID=America/Toronto:20231130T180000
DTEND;TZID=America/Toronto:20231130T200000
DTSTAMP:20260423T094805
CREATED:20231023T064934Z
LAST-MODIFIED:20231108T104255Z
UID:6062-1701367200-1701374400@www.mindful-education.fr
SUMMARY:30/11 Visio Peace elearning
DESCRIPTION:Ce contenu est protégé
URL:https://www.mindful-education.fr/formation/visio-peace-elearning-30-nov-2-2/
LOCATION:en ligne
END:VEVENT
BEGIN:VEVENT
DTSTART;TZID=Europe/Paris:20231130T200000
DTEND;TZID=Europe/Paris:20231130T204500
DTSTAMP:20260423T094805
CREATED:20231108T103650Z
LAST-MODIFIED:20231108T104342Z
UID:6081-1701374400-1701377100@www.mindful-education.fr
SUMMARY:30 novembre- Session découverte formations P.E.A.C.E®
DESCRIPTION:1 session de 45 mins avec formateur-trice PEACE pour découvrir les formations et leur format et poser vos questions \n\nP.E.A.C.E en milieu scolaire et éducatif (sur site\, à distance\, en formule hybride)\nP.E.A.C.E Educ Santé (à distance ou en intra)\n\nLien envoyé après l’inscription
URL:https://www.mindful-education.fr/formation/sessiondecouverte-3/
LOCATION:en ligne
CATEGORIES:session découverte PEACE
ATTACH;FMTTYPE=image/jpeg:https://www.mindful-education.fr/wp-content/uploads/2023/01/JEU_PEACE_recto_Page_26.jpg
END:VEVENT
END:VCALENDAR