BEGIN:VCALENDAR
VERSION:2.0
PRODID:-//Mindful Education - ECPv6.15.18//NONSGML v1.0//EN
CALSCALE:GREGORIAN
METHOD:PUBLISH
X-ORIGINAL-URL:https://www.mindful-education.fr
X-WR-CALDESC:Évènements pour Mindful Education
REFRESH-INTERVAL;VALUE=DURATION:PT1H
X-Robots-Tag:noindex
X-PUBLISHED-TTL:PT1H
BEGIN:VTIMEZONE
TZID:Europe/Paris
BEGIN:DAYLIGHT
TZOFFSETFROM:+0100
TZOFFSETTO:+0200
TZNAME:CEST
DTSTART:20230326T010000
END:DAYLIGHT
BEGIN:STANDARD
TZOFFSETFROM:+0200
TZOFFSETTO:+0100
TZNAME:CET
DTSTART:20231029T010000
END:STANDARD
BEGIN:DAYLIGHT
TZOFFSETFROM:+0100
TZOFFSETTO:+0200
TZNAME:CEST
DTSTART:20240331T010000
END:DAYLIGHT
BEGIN:STANDARD
TZOFFSETFROM:+0200
TZOFFSETTO:+0100
TZNAME:CET
DTSTART:20241027T010000
END:STANDARD
BEGIN:DAYLIGHT
TZOFFSETFROM:+0100
TZOFFSETTO:+0200
TZNAME:CEST
DTSTART:20250330T010000
END:DAYLIGHT
BEGIN:STANDARD
TZOFFSETFROM:+0200
TZOFFSETTO:+0100
TZNAME:CET
DTSTART:20251026T010000
END:STANDARD
END:VTIMEZONE
BEGIN:VTIMEZONE
TZID:America/Toronto
BEGIN:DAYLIGHT
TZOFFSETFROM:-0500
TZOFFSETTO:-0400
TZNAME:EDT
DTSTART:20230312T070000
END:DAYLIGHT
BEGIN:STANDARD
TZOFFSETFROM:-0400
TZOFFSETTO:-0500
TZNAME:EST
DTSTART:20231105T060000
END:STANDARD
BEGIN:DAYLIGHT
TZOFFSETFROM:-0500
TZOFFSETTO:-0400
TZNAME:EDT
DTSTART:20240310T070000
END:DAYLIGHT
BEGIN:STANDARD
TZOFFSETFROM:-0400
TZOFFSETTO:-0500
TZNAME:EST
DTSTART:20241103T060000
END:STANDARD
BEGIN:DAYLIGHT
TZOFFSETFROM:-0500
TZOFFSETTO:-0400
TZNAME:EDT
DTSTART:20250309T070000
END:DAYLIGHT
BEGIN:STANDARD
TZOFFSETFROM:-0400
TZOFFSETTO:-0500
TZNAME:EST
DTSTART:20251102T060000
END:STANDARD
END:VTIMEZONE
BEGIN:VEVENT
DTSTART;TZID=Europe/Paris:20240222T193000
DTEND;TZID=Europe/Paris:20240411T213000
DTSTAMP:20260416T150245
CREATED:20230910T035154Z
LAST-MODIFIED:20240305T130822Z
UID:6010-1708630200-1712871000@www.mindful-education.fr
SUMMARY:P.E.A.C.E® Education Santé - formation à distance 22 février- 11 avril 2024
DESCRIPTION:La méditation de présence attentive pour prendre soin des enfants et des jeunes en situation de fragilité\nTous les jeudis de 19h30 à 21h30 \nParcours inspiré de la méthode P.E.A.C.E®\nPublic: \nPersonnel soignant\, thérapeutes\, psychologues\, psychopédagogues\, centres spécialisés d’aide à l’enfance\, infirmier-e-s\, médecins\, associations de soutien scolaire\, coachs individuels… \nObjectif général:\nPratiquer la présence attentive avec les enfants et les ados en situation de fragilité (santé mentale\, handicaps…) \n\n\nObjectif Général\n\n\nLe programme P.E.A.C.E® adapté (Présence\, Ecoute\, Attention\, Corporalité\, Emotions) est basé sur la pratique de la présence attentive pleine conscience) avec les enfants et les ados en difficulté mentale ou/et physique. \nLes chercheurs ont pu certifier que la pratique de la méditation chaque jour au moins 20mn\, pendant 8 semaines\, réduit considérablement les effets du stress et de l’anxiété\, améliore la qualité du sommeil\, la sensation de bien-être corporel\, et renforce l’immunité. \nCe parcours adapté aux professionnels et accompagnants d’enfants ou de jeunes en situation de fragilité permet de découvrir et d’appliquer des outils de gestion des tensions intérieures\, du stress\, de l’anxiété ou d’handicaps\, tout en favorisant l’émergence de la confiance en soi et le développement des ressources de l’enfant ou du jeune. \n2.     Développement des compétences\n\nComprendre l’impact des émotions et du stress sur le corps et donc sur la santé mentale et physique\nInstaller un cadre de confiance et de sécurité avec les enfants et les jeunes\nPratiquer avec la conscience de la présence de traumas (trauma based mindfulness)\nApprendre à animer des séances structurées et des pratiques simples de présence attentive en petit groupe ou en individuel\n\n3. Contenu \nChaque module intègre des pratiques inspirées du programme P.E.A.C.E. ® avec des enfants\, adolescents ou jeunes adultes. \n Module 1 : Les bases de la pratique avec les enfants /adolescents en situation de fragilité \n\nLe cadre de sécurité et les permissions\nLa structure d’un atelier type\nLa posture de l’encadrant et la dimension corporelle\nLes pratiques de présence attentive et le trauma\n\nModule 2 : Les pratiques qui favorisent le bien-être physique et mental \n\nDévelopper l’attention à la respiration et aux ressentis\nApprendre à relâcher les tensions corporelles\nLa présence attentive en mouvement\n\nModule 3 : Pratiques pour la régulation du stress et des émotions\n\nPratiques de centration et d’ancrag\nNommer\, identifier\, faire circuler les charges émotionnelles\nApaiser le mental et l’anxiété\n\nModule 4 : Pratiques pour développer les ressources et  la confiance en soi \n\nDécouvrir les ressources et faire un bilan\nLes émotions positives (la gratitude\, l’auto-compassion\, devenir son meilleur allié)\nNourrir la confiance en soi tous les jours\n\n4. Durée et modalités de la formation\n\n8 sessions de 2h00 en visio de 19h30 à 21h30\nAccès à un espace de ressources en lignes.\nManuel pédagogique et livrets de pratique\nTest de fin de formation\nCertificat de fin de formation\nAutres modalités: en INTRA/ coût par module pour vos équipes\, nous contacter pour devis : formationpeace@gmail.com\n\n5. Pré-requis (une seule option suffit)\n\nFormation PAUSE de l’Association pour la Méditation laïque dans l’Education  \nProgramme M.B.S.R\, M.B.C.T ou similaire\nProgramme P.E.A.C.E en milieu scolaire et éducatif\n\n6. Tarifs individuels\n\n€ 490 (règlement en 2 fois possible)\nTarif prise en charge (+200€) : faites une demande de prise en charge sur le site ou à l’email formationpeace@gmail.com pour une demande de devis et programme que vous devrez renvoyer à votre organisme financeur.\n\n7. Tarifs instructeurs P.E.A.C.E®\n\nSi vous êtes déjà formés au programme P.E.A.C.E\, vous pourrez vous inscrire dans le cadre de la formation continue à un coût réduit de €390. Nous contacter par email formationpeace@gmail.com avant inscription pour envoi du code de réduction.
URL:https://www.mindful-education.fr/formation/fevrier-avril24/
LOCATION:en ligne
CATEGORIES:PEACE Education santé
ORGANIZER;CN="MINDFUL EDUCATION":MAILTO:formationpeace@gmail.com
END:VEVENT
BEGIN:VEVENT
DTSTART;TZID=America/Toronto:20240411T180000
DTEND;TZID=America/Toronto:20240411T200000
DTSTAMP:20260416T150245
CREATED:20240308T124009Z
LAST-MODIFIED:20240308T124009Z
UID:6236-1712858400-1712865600@www.mindful-education.fr
SUMMARY:11/04/24 Visio Peace elearning
DESCRIPTION:Ce contenu est protégé
URL:https://www.mindful-education.fr/formation/11-04-24-visio-peace-elearning-2/
LOCATION:en ligne
END:VEVENT
BEGIN:VEVENT
DTSTART;TZID=America/Toronto:20240420T100000
DTEND;TZID=America/Toronto:20240420T120000
DTSTAMP:20260416T150245
CREATED:20240308T124124Z
LAST-MODIFIED:20240308T124124Z
UID:6238-1713607200-1713614400@www.mindful-education.fr
SUMMARY:20/04/24 Visio Peace elearning
DESCRIPTION:Ce contenu est protégé
URL:https://www.mindful-education.fr/formation/20-04-24-visio-peace-elearning-2/
LOCATION:en ligne
END:VEVENT
BEGIN:VEVENT
DTSTART;TZID=Europe/Paris:20240427T100000
DTEND;TZID=Europe/Paris:20240427T120000
DTSTAMP:20260416T150245
CREATED:20240308T124325Z
LAST-MODIFIED:20240426T130948Z
UID:6240-1714212000-1714219200@www.mindful-education.fr
SUMMARY:27/04/24 Visio Peace elearning
DESCRIPTION:Ce contenu est protégé
URL:https://www.mindful-education.fr/formation/27-04-24-visio-peace-elearning/
LOCATION:en ligne
END:VEVENT
END:VCALENDAR