BEGIN:VCALENDAR
VERSION:2.0
PRODID:-//Mindful Education - ECPv6.15.18//NONSGML v1.0//EN
CALSCALE:GREGORIAN
METHOD:PUBLISH
X-WR-CALNAME:Mindful Education
X-ORIGINAL-URL:https://www.mindful-education.fr
X-WR-CALDESC:Évènements pour Mindful Education
REFRESH-INTERVAL;VALUE=DURATION:PT1H
X-Robots-Tag:noindex
X-PUBLISHED-TTL:PT1H
BEGIN:VTIMEZONE
TZID:Europe/Paris
BEGIN:DAYLIGHT
TZOFFSETFROM:+0100
TZOFFSETTO:+0200
TZNAME:CEST
DTSTART:20230326T010000
END:DAYLIGHT
BEGIN:STANDARD
TZOFFSETFROM:+0200
TZOFFSETTO:+0100
TZNAME:CET
DTSTART:20231029T010000
END:STANDARD
BEGIN:DAYLIGHT
TZOFFSETFROM:+0100
TZOFFSETTO:+0200
TZNAME:CEST
DTSTART:20240331T010000
END:DAYLIGHT
BEGIN:STANDARD
TZOFFSETFROM:+0200
TZOFFSETTO:+0100
TZNAME:CET
DTSTART:20241027T010000
END:STANDARD
BEGIN:DAYLIGHT
TZOFFSETFROM:+0100
TZOFFSETTO:+0200
TZNAME:CEST
DTSTART:20250330T010000
END:DAYLIGHT
BEGIN:STANDARD
TZOFFSETFROM:+0200
TZOFFSETTO:+0100
TZNAME:CET
DTSTART:20251026T010000
END:STANDARD
END:VTIMEZONE
BEGIN:VEVENT
DTSTART;TZID=Europe/Paris:20240522T180000
DTEND;TZID=Europe/Paris:20240703T201500
DTSTAMP:20260422T211917
CREATED:20231111T052535Z
LAST-MODIFIED:20240522T151253Z
UID:6091-1716400800-1720037700@www.mindful-education.fr
SUMMARY:Formation Intervenant pleine conscience dans l'Enseignement Supérieur
DESCRIPTION:Session de printemps 2024 \nDu 22 mai au 3 juillet (7 mercredis) 18H00 à 20h15 (heure Paris) – 12h00 à 14h15 fuseaux -EST\nApprenez à faciliter des séances et modules basés sur l’intégration de la pleine conscience dans l’enseignement supérieur.  \n Pré-requis:  \n\nsoit être formé à P.E.A.C.E®  en milieu éducatif ou\navoir suivi un parcours en pleine conscience ou présence attentive\navoir suivi le parcours d’eco facilitation:  https://isabellegiraldo.com/ecofacilitation\n\nAutres: personnel en milieu universitaire ou grande école – nous contacter\n\n1-Présentation \nLe parcours de facilitation dans l’enseignement supérieur est une adaptation du programme P.E.A.C.E et a été testé depuis 4 ans  auprès de centaines d’étudiants en grande école ou à l’université. \nIl s’articule autour de 8 thèmes que vous pourrez adapter soit en format Cours/modules dédiés ou davantage lors de séances de pratique et de sensibilisation durant les cours. \n1- Objectif \n\nFaciliter des cours/modules et mener des pratiques de méditation de pleine conscience auprès des étudiants du cycle supérieur ou les 18-28 ans.\n\n2-Contenu (thèmes abordés) \n\nThème 1 : Découverte de la pleine conscience\, pleine présence – Les bases\nThème 2 : Les différents mode d’attention\, déjouer le pilote automatique\nThème 3 : Régulation du stress et résilience\nThème 4 : Faire face aux émotions\nThème 5 : Développer ressources et émotions positives\nThème 6 : Le fonctionnement des pensées- le cognitif\nThème 7 : Des besoins contraignants aux permissions –Atelier les drivers\nThème 8 : La Relation aux autres\, mieux communiquer\n\n3-Durée de la formation \n\n15-16 h réparties sur 7 rencontres d’1H45 en ligne + atelier de présentation à enregistrer ou en direct en fin de parcours\n+ 1 leçon du module en ligne/semaine à visionner en autonomie\n+ 1 session bonus d’éco facilitation avec Isabelle Giraldo\nIntervision de suivi\n\n4-Atouts de ce programme  \nVous aurez accès aux ressources et supports suivants: \n\nDès inscription\, un accès au module en e-learning « cultiver la connexion\, l’ancrage et la résilience par la méditation de pleine présence ‘ conçu pour les étudiants par ecomindful.\nWorkbook à télécharger\n8 PPT sur chaque thématique\n2 livrets de pratiques de méditation adaptées de PEACE avec différentes thématiques\nModèles de journal de bord pour les étudiants\nActivités suggérées\n\n• Des pratiques validées sur le terrain et mesurées scientifiquement\n• Parcours développé par Candice Marro et Ecomindful \n5- Dates\, Horaires\, Tarif \nDu 22 mai au 3 juillet 18H00 à 20h45 CET – 12h00 à 14h15 fuseaux -6H \n\n490 € – 715CAD$\n430 € – 625 CAD $(Pour les adhérents des associations partenaires (AMLE\, AMESuisse\, Belgique): s’inscrire via www.meditation-enseignement.com\nTarif spécial pour Étudiants qui souhaitent devenir facilitateurs: 300 €- 435 CAD$ : demander code de réduction à formationpeace@gmail.com\n\n\nNote: l’adhésion à l’association partenaire A.M.L.E. est à régler  si vous souhaitez bénéficier du tarif adhérent VOIR ET ADHÉRER \n  \n 
URL:https://www.mindful-education.fr/formation/pleineconscience-ens-sup-mai24/
LOCATION:en ligne
ATTACH;FMTTYPE=image/jpeg:https://www.mindful-education.fr/wp-content/uploads/2021/01/IMG_1702.jpg
ORGANIZER;CN="MINDFUL EDUCATION":MAILTO:formationpeace@gmail.com
END:VEVENT
BEGIN:VEVENT
DTSTART;TZID=Europe/Paris:20240608T100000
DTEND;TZID=Europe/Paris:20240608T120000
DTSTAMP:20260422T211917
CREATED:20240509T094826Z
LAST-MODIFIED:20240509T094826Z
UID:6300-1717840800-1717848000@www.mindful-education.fr
SUMMARY:8/06/24 Visio Peace elearning
DESCRIPTION:Ce contenu est protégé
URL:https://www.mindful-education.fr/formation/8-06-24-visio-peace-elearning-2/
LOCATION:en ligne
END:VEVENT
BEGIN:VEVENT
DTSTART;TZID=Europe/Paris:20240622T170000
DTEND;TZID=Europe/Paris:20240622T190000
DTSTAMP:20260422T211917
CREATED:20240523T092745Z
LAST-MODIFIED:20240523T092745Z
UID:6331-1719075600-1719082800@www.mindful-education.fr
SUMMARY:22/06/24 Visio Peace elearning
DESCRIPTION:Ce contenu est protégé
URL:https://www.mindful-education.fr/formation/22-06-24-visio-peace-elearning/
LOCATION:en ligne
END:VEVENT
END:VCALENDAR