BEGIN:VCALENDAR
VERSION:2.0
PRODID:-//Mindful Education - ECPv6.15.18//NONSGML v1.0//EN
CALSCALE:GREGORIAN
METHOD:PUBLISH
X-WR-CALNAME:Mindful Education
X-ORIGINAL-URL:https://www.mindful-education.fr
X-WR-CALDESC:Évènements pour Mindful Education
REFRESH-INTERVAL;VALUE=DURATION:PT1H
X-Robots-Tag:noindex
X-PUBLISHED-TTL:PT1H
BEGIN:VTIMEZONE
TZID:Europe/Paris
BEGIN:DAYLIGHT
TZOFFSETFROM:+0100
TZOFFSETTO:+0200
TZNAME:CEST
DTSTART:20230326T010000
END:DAYLIGHT
BEGIN:STANDARD
TZOFFSETFROM:+0200
TZOFFSETTO:+0100
TZNAME:CET
DTSTART:20231029T010000
END:STANDARD
BEGIN:DAYLIGHT
TZOFFSETFROM:+0100
TZOFFSETTO:+0200
TZNAME:CEST
DTSTART:20240331T010000
END:DAYLIGHT
BEGIN:STANDARD
TZOFFSETFROM:+0200
TZOFFSETTO:+0100
TZNAME:CET
DTSTART:20241027T010000
END:STANDARD
BEGIN:DAYLIGHT
TZOFFSETFROM:+0100
TZOFFSETTO:+0200
TZNAME:CEST
DTSTART:20250330T010000
END:DAYLIGHT
BEGIN:STANDARD
TZOFFSETFROM:+0200
TZOFFSETTO:+0100
TZNAME:CET
DTSTART:20251026T010000
END:STANDARD
END:VTIMEZONE
BEGIN:VTIMEZONE
TZID:America/Toronto
BEGIN:DAYLIGHT
TZOFFSETFROM:-0500
TZOFFSETTO:-0400
TZNAME:EDT
DTSTART:20230312T070000
END:DAYLIGHT
BEGIN:STANDARD
TZOFFSETFROM:-0400
TZOFFSETTO:-0500
TZNAME:EST
DTSTART:20231105T060000
END:STANDARD
BEGIN:DAYLIGHT
TZOFFSETFROM:-0500
TZOFFSETTO:-0400
TZNAME:EDT
DTSTART:20240310T070000
END:DAYLIGHT
BEGIN:STANDARD
TZOFFSETFROM:-0400
TZOFFSETTO:-0500
TZNAME:EST
DTSTART:20241103T060000
END:STANDARD
BEGIN:DAYLIGHT
TZOFFSETFROM:-0500
TZOFFSETTO:-0400
TZNAME:EDT
DTSTART:20250309T070000
END:DAYLIGHT
BEGIN:STANDARD
TZOFFSETFROM:-0400
TZOFFSETTO:-0500
TZNAME:EST
DTSTART:20251102T060000
END:STANDARD
END:VTIMEZONE
BEGIN:VEVENT
DTSTART;TZID=Europe/Paris:20241112T180000
DTEND;TZID=Europe/Paris:20241112T200000
DTSTAMP:20260422T120452
CREATED:20240917T123241Z
LAST-MODIFIED:20240917T123241Z
UID:6406-1731434400-1731441600@www.mindful-education.fr
SUMMARY:12/11/24 Visio Peace elearning
DESCRIPTION:Ce contenu est protégé
URL:https://www.mindful-education.fr/formation/12-11-24-visio-peace-elearning/
LOCATION:en ligne
END:VEVENT
BEGIN:VEVENT
DTSTART;TZID=America/Toronto:20241115T000000
DTEND;TZID=America/Toronto:20241115T000000
DTSTAMP:20260422T120452
CREATED:20241020T123716Z
LAST-MODIFIED:20241020T124157Z
UID:6432-1731628800-1731628800@www.mindful-education.fr
SUMMARY:P.E.A.C.E® milieu éducatif e-learning -  5-11 ans - 16 novembre
DESCRIPTION:Parcours en 3 modules et 9 leçons.\nPour les milieux éducatifs.\nIl est accessible au personnel éducatif et aux intervenants extérieurs en milieu éducatif avec pré-requis. Il permet de suivre une approche codifiée et expérimentée afin d’intégrer les apports et outils de la méditation laïque (ou présence attentive) pendant le temps des apprentissages\, en groupe ou autres modalités propres au milieu éducatif et extra scolaire. \nObjectif: vous apprendrez à animer des temps de retour à l’attention et de développement des capacités attentionnelles  et psycho-sociales avec des groupes d’enfants de 5 à 11 ans ou de 12 à 18 ans. (Vous choisissez votre groupe d’âge à l’inscription) \nModalités: Ce cours se complète en approximativement 8 semaines. L’inscription à une session avec une date de début  est obligatoire. Lorsque le cours s’ouvre\, vous commencez vos premières leçons en toute autonomie\, aux heures et rythme qui vous conviennent . \nNous vous envoyons un calendrier de dates des visios avec nos formateurs-trices et vous choisissez vos dates et heures en fonction de votre avancée dans le programme. 3 visios sont nécessaires pour compléter la formation. \nCertification: un certificat est à télécharger directement dans votre plateforme. \nAccréditation : Pour être accrédité et faire partie du réseau d’instructeurtrices P.E.A.C.E® référencé il faut néanmoins compléter la formation par un stage de 10 semaines supervisé en milieu éducatif (scolaire\, extra scolaire\, autres).\nL’accréditation est obligatoire pour les intervenants extérieurs souhaitant intervenir en milieu scolaire et le personnel éducatif à l’école. \nElle est conseilllée pour les interventions dans d’autres cadres mais non obligatoire. \nInscriptions: vous avez un code promo? Entrez le dans le panier dans le site d’inscription ci-dessous: \nSite PEACE à distance: https://elearning.peace-mindful-education.com/prochaines-sessions/
URL:https://www.mindful-education.fr/formation/p-e-a-c-e-milieu-educatif-e-learning-16-nov/
LOCATION:en ligne
ORGANIZER;CN="MINDFUL EDUCATION":MAILTO:formationpeace@gmail.com
END:VEVENT
BEGIN:VEVENT
DTSTART;TZID=America/Toronto:20241115T000000
DTEND;TZID=America/Toronto:20241115T000000
DTSTAMP:20260422T120452
CREATED:20241020T123902Z
LAST-MODIFIED:20241020T124143Z
UID:6434-1731628800-1731628800@www.mindful-education.fr
SUMMARY:P.E.A.C.E® milieu éducatif e-learning -  12-18 ans - 16 novembre
DESCRIPTION:Parcours en 3 modules et 9 leçons.\nPour les milieux éducatifs.\nIl est accessible au personnel éducatif et aux intervenants extérieurs en milieu éducatif avec pré-requis. Il permet de suivre une approche codifiée et expérimentée afin d’intégrer les apports et outils de la méditation laïque (ou présence attentive) pendant le temps des apprentissages\, en groupe ou autres modalités propres au milieu éducatif et extra scolaire. \nObjectif: vous apprendrez à animer des temps de retour à l’attention et de développement des capacités attentionnelles  et psycho-sociales avec des groupes d’enfants de 5 à 11 ans ou de 12 à 18 ans. (Vous choisissez votre groupe d’âge à l’inscription) \nModalités: Ce cours se complète en approximativement 8 semaines. L’inscription à une session avec une date de début  est obligatoire. Lorsque le cours s’ouvre\, vous commencez vos premières leçons en toute autonomie\, aux heures et rythme qui vous conviennent . \nNous vous envoyons un calendrier de dates des visios avec nos formateurs-trices et vous choisissez vos dates et heures en fonction de votre avancée dans le programme. 3 visios sont nécessaires pour compléter la formation. \nCertification: un certificat est à télécharger directement dans votre plateforme. \nAccréditation : Pour être accrédité et faire partie du réseau d’instructeurtrices P.E.A.C.E® référencé il faut néanmoins compléter la formation par un stage de 10 semaines supervisé en milieu éducatif (scolaire\, extra scolaire\, autres).\nL’accréditation est obligatoire pour les intervenants extérieurs souhaitant intervenir en milieu scolaire et le personnel éducatif à l’école. \nElle est conseilllée pour les interventions dans d’autres cadres mais non obligatoire. \nInscriptions: vous avez un code promo? Entrez le dans le panier dans le site d’inscription ci-dessous: \nSite PEACE à distance: https://elearning.peace-mindful-education.com/prochaines-sessions/
URL:https://www.mindful-education.fr/formation/p-e-a-c-e-milieu-educatif-e-learning-12-18-ans-16-novembre/
LOCATION:en ligne
ORGANIZER;CN="MINDFUL EDUCATION":MAILTO:formationpeace@gmail.com
END:VEVENT
BEGIN:VEVENT
DTSTART;TZID=Europe/Paris:20241116T093000
DTEND;TZID=Europe/Paris:20241117T173000
DTSTAMP:20260422T120452
CREATED:20240506T104913Z
LAST-MODIFIED:20240926T111739Z
UID:6288-1731749400-1731864600@www.mindful-education.fr
SUMMARY:hybride Paris sur site 16 et 17  novembre + à distance - Formation P.E.A.C.E® Instructeur en milieu scolaire et éducatif
DESCRIPTION:Sur site à Massy Palaiseau les 16 et 17  novembresur site et en hybride pour la suite (modules en e-learning et 3 visios avec plusieurs dates au choix). \nObjet: Former à l’animation de séances de pratique de présence attentive\, suivant le protocole P.E.A.C.E.®\, en milieu scolaire et éducatif. \nLa formule hybride permet l’acquisition du protocole P.E.A.C.E® grâce à une pluralité de supports\, ainsi qu’un suivi en visio (toutes les 2 semaines) suite à 2 journées in situ au début. \nC’est un programme comprenant environ 35 heures de formation\, qui vous permettra d’apprendre à animer des temps de retour à l’attention et de développement des capacités attentionnelles\, émotionnelles et psycho-sociales avec pour? des groupes d’enfants et des adolescents de 5 à 18 ans. \n\n+ 16 heures de cours et activités en ligne et à distance\n6h (3 rencontres de 2h00) en ligne avec 1 ou 2 formateurs\n14 heures (2 jours) en présentiel à la fin de la formation\nNombreuses pratiques audios guidées par les formateurs P.E.A.C.E®\nVidéos d’illustration des pratiques en classe et en formation\nJournal de pratique à télécharger\nDocuments à télécharger\nQuizz\, Auto-évaluations\, accès à des ressources supplémentaires\nBuddy de pratique et travaux pratiques entre les sessions\n\nComment ça se passe? \nLes 2 jours sur site\, vous explorerez les premiers thèmes du programme P.EA.C.E®: \n\nLes bases du programme et les thèmatiques 1 à 4.\n\nPar la suite\, nous vous ouvrons un accès à la plate-forme en e-learning\, sur laquelle vous continuerez vos apprentissages en autonomie et à votre rythme. Vous aurez également un calendrier de visios et vous pourrez vous inscrire à 3 visios (rythme conseillé\, une visio tous les 15 jours). \n\nCette formation se déroule avec 3 séances en ligne\, des temps d’apprentissage autonome en e-learning et 2 journées de formation en salle.\n 3 séances Zoom\n\nPour les visios en zoom\, vous aurez le choix entre plusieurs dates et sessions que nous vous envoyons à l’inscription. Il vous faudra juste vous inscrire à 3 visios après les 2 jours en présentiel.\n\n\n2 jours sur site (Paris) les 16 et 17  novembre\nCertificat de fin de formation\nAccréditation avec supervision + € 120 : obligatoire pour les intervenants extérieurs qui souhaitent intervenir en milieu scolaire ou extra-scolaire. (à régler directement à son superviseur après confirmation du stage).\nRecommandée mais non obligatoire pour les enseignants qui ne pratiquent qu’avec leurs classes.\nTarif prise en charge (+200€) : faites une demande de prise en charge sur le site ou à l’email formationpeace@gmail.com pour une demande de devis et programme que vous devrez renvoyer à votre organisme financeur.\n\n\nNote: l’adhésion à l’association partenaire A.M.L.E. est à régler  pour faire votre stage d’accréditation et faire partie de la communauté d’instructeurs référencés dans les établissements scolaires. VOIR ET ADHÉRER[/vc_column_text][/vc_column][/vc_row]
URL:https://www.mindful-education.fr/formation/distance-16-et-17-novembre-24/
CATEGORIES:Paris
ATTACH;FMTTYPE=image/jpeg:https://www.mindful-education.fr/wp-content/uploads/2019/02/Heartfulness.jpg
ORGANIZER;CN="MINDFUL EDUCATION":MAILTO:formationpeace@gmail.com
END:VEVENT
BEGIN:VEVENT
DTSTART;TZID=Europe/Paris:20241120T180000
DTEND;TZID=Europe/Paris:20241120T200000
DTSTAMP:20260422T120452
CREATED:20241029T234640Z
LAST-MODIFIED:20241029T234640Z
UID:6443-1732125600-1732132800@www.mindful-education.fr
SUMMARY:20/11/24 Visio Peace elearning
DESCRIPTION:Ce contenu est protégé
URL:https://www.mindful-education.fr/formation/20-11-24-visio-peace-elearning-2/
LOCATION:en ligne
END:VEVENT
BEGIN:VEVENT
DTSTART;TZID=Europe/Paris:20241130T090000
DTEND;TZID=Europe/Paris:20241130T110000
DTSTAMP:20260422T120452
CREATED:20241029T234815Z
LAST-MODIFIED:20241029T234833Z
UID:6446-1732957200-1732964400@www.mindful-education.fr
SUMMARY:30/11/24 Visio Peace elearning
DESCRIPTION:Ce contenu est protégé
URL:https://www.mindful-education.fr/formation/30-11-24-visio-peace-elearning/
LOCATION:en ligne
END:VEVENT
END:VCALENDAR