BEGIN:VCALENDAR
VERSION:2.0
PRODID:-//Mindful Education - ECPv6.15.18//NONSGML v1.0//EN
CALSCALE:GREGORIAN
METHOD:PUBLISH
X-ORIGINAL-URL:https://www.mindful-education.fr
X-WR-CALDESC:Évènements pour Mindful Education
REFRESH-INTERVAL;VALUE=DURATION:PT1H
X-Robots-Tag:noindex
X-PUBLISHED-TTL:PT1H
BEGIN:VTIMEZONE
TZID:America/Toronto
BEGIN:DAYLIGHT
TZOFFSETFROM:-0500
TZOFFSETTO:-0400
TZNAME:EDT
DTSTART:20230312T070000
END:DAYLIGHT
BEGIN:STANDARD
TZOFFSETFROM:-0400
TZOFFSETTO:-0500
TZNAME:EST
DTSTART:20231105T060000
END:STANDARD
BEGIN:DAYLIGHT
TZOFFSETFROM:-0500
TZOFFSETTO:-0400
TZNAME:EDT
DTSTART:20240310T070000
END:DAYLIGHT
BEGIN:STANDARD
TZOFFSETFROM:-0400
TZOFFSETTO:-0500
TZNAME:EST
DTSTART:20241103T060000
END:STANDARD
BEGIN:DAYLIGHT
TZOFFSETFROM:-0500
TZOFFSETTO:-0400
TZNAME:EDT
DTSTART:20250309T070000
END:DAYLIGHT
BEGIN:STANDARD
TZOFFSETFROM:-0400
TZOFFSETTO:-0500
TZNAME:EST
DTSTART:20251102T060000
END:STANDARD
END:VTIMEZONE
BEGIN:VTIMEZONE
TZID:Europe/Paris
BEGIN:DAYLIGHT
TZOFFSETFROM:+0100
TZOFFSETTO:+0200
TZNAME:CEST
DTSTART:20230326T010000
END:DAYLIGHT
BEGIN:STANDARD
TZOFFSETFROM:+0200
TZOFFSETTO:+0100
TZNAME:CET
DTSTART:20231029T010000
END:STANDARD
BEGIN:DAYLIGHT
TZOFFSETFROM:+0100
TZOFFSETTO:+0200
TZNAME:CEST
DTSTART:20240331T010000
END:DAYLIGHT
BEGIN:STANDARD
TZOFFSETFROM:+0200
TZOFFSETTO:+0100
TZNAME:CET
DTSTART:20241027T010000
END:STANDARD
BEGIN:DAYLIGHT
TZOFFSETFROM:+0100
TZOFFSETTO:+0200
TZNAME:CEST
DTSTART:20250330T010000
END:DAYLIGHT
BEGIN:STANDARD
TZOFFSETFROM:+0200
TZOFFSETTO:+0100
TZNAME:CET
DTSTART:20251026T010000
END:STANDARD
END:VTIMEZONE
BEGIN:VEVENT
DTSTART;TZID=America/Toronto:20241213T000000
DTEND;TZID=America/Toronto:20241213T000000
DTSTAMP:20260420T115512
CREATED:20241020T124109Z
LAST-MODIFIED:20241020T124335Z
UID:6436-1734048000-1734048000@www.mindful-education.fr
SUMMARY:P.E.A.C.E® milieu éducatif e-learning -  12-18 ans - 13 décembre
DESCRIPTION:Parcours en 3 modules et 9 leçons.\nPour les milieux éducatifs.\nIl est accessible au personnel éducatif et aux intervenants extérieurs en milieu éducatif avec pré-requis. Il permet de suivre une approche codifiée et expérimentée afin d’intégrer les apports et outils de la méditation laïque (ou présence attentive) pendant le temps des apprentissages\, en groupe ou autres modalités propres au milieu éducatif et extra scolaire. \nObjectif: vous apprendrez à animer des temps de retour à l’attention et de développement des capacités attentionnelles  et psycho-sociales avec des groupes d’enfants de 5 à 11 ans ou de 12 à 18 ans. (Vous choisissez votre groupe d’âge à l’inscription) \nModalités: Ce cours se complète en approximativement 8 semaines. L’inscription à une session avec une date de début  est obligatoire. Lorsque le cours s’ouvre\, vous commencez vos premières leçons en toute autonomie\, aux heures et rythme qui vous conviennent . \nNous vous envoyons un calendrier de dates des visios avec nos formateurs-trices et vous choisissez vos dates et heures en fonction de votre avancée dans le programme. 3 visios sont nécessaires pour compléter la formation. \nCertification: un certificat est à télécharger directement dans votre plateforme. \nAccréditation : Pour être accrédité et faire partie du réseau d’instructeurtrices P.E.A.C.E® référencé il faut néanmoins compléter la formation par un stage de 10 semaines supervisé en milieu éducatif (scolaire\, extra scolaire\, autres).\nL’accréditation est obligatoire pour les intervenants extérieurs souhaitant intervenir en milieu scolaire et le personnel éducatif à l’école. \nElle est conseilllée pour les interventions dans d’autres cadres mais non obligatoire. \nInscriptions: vous avez un code promo? Entrez le dans le panier dans le site d’inscription ci-dessous: \nSite PEACE à distance: https://elearning.peace-mindful-education.com/prochaines-sessions/
URL:https://www.mindful-education.fr/formation/p-e-a-c-e-milieu-educatif-e-learning-12-18-ans-13-decembre/
LOCATION:en ligne
ORGANIZER;CN="MINDFUL EDUCATION":MAILTO:formationpeace@gmail.com
END:VEVENT
BEGIN:VEVENT
DTSTART;TZID=America/Toronto:20241213T000000
DTEND;TZID=America/Toronto:20241213T000000
DTSTAMP:20260420T115512
CREATED:20241020T124254Z
LAST-MODIFIED:20241020T124254Z
UID:6438-1734048000-1734048000@www.mindful-education.fr
SUMMARY:P.E.A.C.E® milieu éducatif e-learning -  5-11 ans - 13 décembre
DESCRIPTION:Parcours en 3 modules et 9 leçons.\nPour les milieux éducatifs.\nIl est accessible au personnel éducatif et aux intervenants extérieurs en milieu éducatif avec pré-requis. Il permet de suivre une approche codifiée et expérimentée afin d’intégrer les apports et outils de la méditation laïque (ou présence attentive) pendant le temps des apprentissages\, en groupe ou autres modalités propres au milieu éducatif et extra scolaire. \nObjectif: vous apprendrez à animer des temps de retour à l’attention et de développement des capacités attentionnelles  et psycho-sociales avec des groupes d’enfants de 5 à 11 ans ou de 12 à 18 ans. (Vous choisissez votre groupe d’âge à l’inscription) \nModalités: Ce cours se complète en approximativement 8 semaines. L’inscription à une session avec une date de début  est obligatoire. Lorsque le cours s’ouvre\, vous commencez vos premières leçons en toute autonomie\, aux heures et rythme qui vous conviennent . \nNous vous envoyons un calendrier de dates des visios avec nos formateurs-trices et vous choisissez vos dates et heures en fonction de votre avancée dans le programme. 3 visios sont nécessaires pour compléter la formation. \nCertification: un certificat est à télécharger directement dans votre plateforme. \nAccréditation : Pour être accrédité et faire partie du réseau d’instructeurtrices P.E.A.C.E® référencé il faut néanmoins compléter la formation par un stage de 10 semaines supervisé en milieu éducatif (scolaire\, extra scolaire\, autres).\nL’accréditation est obligatoire pour les intervenants extérieurs souhaitant intervenir en milieu scolaire et le personnel éducatif à l’école. \nElle est conseilllée pour les interventions dans d’autres cadres mais non obligatoire. \nInscriptions: vous avez un code promo? Entrez le dans le panier dans le site d’inscription ci-dessous: \nSite PEACE à distance: https://elearning.peace-mindful-education.com/prochaines-sessions/
URL:https://www.mindful-education.fr/formation/p-e-a-c-e-milieu-educatif-e-learning-5-11-ans-13-decembre-2/
LOCATION:en ligne
ORGANIZER;CN="MINDFUL EDUCATION":MAILTO:formationpeace@gmail.com
END:VEVENT
BEGIN:VEVENT
DTSTART;TZID=Europe/Paris:20241216T180000
DTEND;TZID=Europe/Paris:20241216T200000
DTSTAMP:20260420T115512
CREATED:20241207T114002Z
LAST-MODIFIED:20241207T114308Z
UID:6464-1734372000-1734379200@www.mindful-education.fr
SUMMARY:16/12/24 Visio Peace elearning
DESCRIPTION:Ce contenu est protégé
URL:https://www.mindful-education.fr/formation/16-12-24-visio-peace-elearning/
LOCATION:en ligne
END:VEVENT
END:VCALENDAR